BEGIN:VCALENDAR
VERSION:2.0
PRODID:-//Firewise - ECPv6.15.15//NONSGML v1.0//EN
CALSCALE:GREGORIAN
METHOD:PUBLISH
X-ORIGINAL-URL:https://firewise.ca
X-WR-CALDESC:Events for Firewise
REFRESH-INTERVAL;VALUE=DURATION:PT1H
X-Robots-Tag:noindex
X-PUBLISHED-TTL:PT1H
BEGIN:VTIMEZONE
TZID:America/Halifax
BEGIN:DAYLIGHT
TZOFFSETFROM:-0400
TZOFFSETTO:-0300
TZNAME:ADT
DTSTART:20250309T060000
END:DAYLIGHT
BEGIN:STANDARD
TZOFFSETFROM:-0300
TZOFFSETTO:-0400
TZNAME:AST
DTSTART:20251102T050000
END:STANDARD
BEGIN:DAYLIGHT
TZOFFSETFROM:-0400
TZOFFSETTO:-0300
TZNAME:ADT
DTSTART:20260308T060000
END:DAYLIGHT
BEGIN:STANDARD
TZOFFSETFROM:-0300
TZOFFSETTO:-0400
TZNAME:AST
DTSTART:20261101T050000
END:STANDARD
BEGIN:DAYLIGHT
TZOFFSETFROM:-0400
TZOFFSETTO:-0300
TZNAME:ADT
DTSTART:20270314T060000
END:DAYLIGHT
BEGIN:STANDARD
TZOFFSETFROM:-0300
TZOFFSETTO:-0400
TZNAME:AST
DTSTART:20271107T050000
END:STANDARD
END:VTIMEZONE
BEGIN:VEVENT
DTSTART;TZID=America/Halifax:20260315T080000
DTEND;TZID=America/Halifax:20260315T160000
DTSTAMP:20260424T070013
CREATED:20260226T165536Z
LAST-MODIFIED:20260226T165536Z
UID:10000017-1773561600-1773590400@firewise.ca
SUMMARY:OFAI Prep Course
DESCRIPTION:The OFAI Prep course is designed to support and create a solid foundation of the skills required to be a successful firefighter.  Each component of the job performance requirements are broken down into a theory and practical based instructional process to support a foundation of reasoning and understanding of skill points.  An instructor will walk you through each skill point and support practical evolutions to refine your skills and create a foundation of confidence. \n\nContent Includes: OFAI theory session\, practical breakdown and understanding of each required skill and evolution\, demonstration and practical training on critical points\nAll Rescue PPE is provided\nPre-requisite: NFPA 1001/1002\nCourse enrolment opens the ability to utilize facility for further dates to practice skills
URL:https://firewise.ca/event/ofai-prep-course/
END:VEVENT
END:VCALENDAR