BEGIN:VCALENDAR
VERSION:2.0
PRODID:-//Firewise - ECPv6.15.15//NONSGML v1.0//EN
CALSCALE:GREGORIAN
METHOD:PUBLISH
X-WR-CALNAME:Firewise
X-ORIGINAL-URL:https://firewise.ca
X-WR-CALDESC:Events for Firewise
REFRESH-INTERVAL;VALUE=DURATION:PT1H
X-Robots-Tag:noindex
X-PUBLISHED-TTL:PT1H
BEGIN:VTIMEZONE
TZID:America/Halifax
BEGIN:DAYLIGHT
TZOFFSETFROM:-0400
TZOFFSETTO:-0300
TZNAME:ADT
DTSTART:20250309T060000
END:DAYLIGHT
BEGIN:STANDARD
TZOFFSETFROM:-0300
TZOFFSETTO:-0400
TZNAME:AST
DTSTART:20251102T050000
END:STANDARD
BEGIN:DAYLIGHT
TZOFFSETFROM:-0400
TZOFFSETTO:-0300
TZNAME:ADT
DTSTART:20260308T060000
END:DAYLIGHT
BEGIN:STANDARD
TZOFFSETFROM:-0300
TZOFFSETTO:-0400
TZNAME:AST
DTSTART:20261101T050000
END:STANDARD
BEGIN:DAYLIGHT
TZOFFSETFROM:-0400
TZOFFSETTO:-0300
TZNAME:ADT
DTSTART:20270314T060000
END:DAYLIGHT
BEGIN:STANDARD
TZOFFSETFROM:-0300
TZOFFSETTO:-0400
TZNAME:AST
DTSTART:20271107T050000
END:STANDARD
END:VTIMEZONE
BEGIN:VEVENT
DTSTART;VALUE=DATE:20260330
DTEND;VALUE=DATE:20260331
DTSTAMP:20260424T115232
CREATED:20260203T175538Z
LAST-MODIFIED:20260225T154330Z
UID:10000014-1774857600-1774890000@firewise.ca
SUMMARY:Working at Heights Course
DESCRIPTION:View Details
URL:https://firewise.ca/event/working-at-heights-course/2026-03-30/2/
END:VEVENT
BEGIN:VEVENT
DTSTART;VALUE=DATE:20260330
DTEND;VALUE=DATE:20260331
DTSTAMP:20260424T115232
CREATED:20260203T175538Z
LAST-MODIFIED:20260225T154330Z
UID:10000004-1774828800-1774915199@firewise.ca
SUMMARY:Working at Heights Course
DESCRIPTION:View Details
URL:https://firewise.ca/event/working-at-heights-course/2026-03-30/1/
END:VEVENT
BEGIN:VEVENT
DTSTART;TZID=America/Halifax:20260329T080000
DTEND;TZID=America/Halifax:20260329T170000
DTSTAMP:20260424T115232
CREATED:20260225T152214Z
LAST-MODIFIED:20260225T154412Z
UID:10000016-1774771200-1774803600@firewise.ca
SUMMARY:NFPA 1006: Ice Water Rescue Awareness/Operations
DESCRIPTION:This course has a 2 and 3 day option comprising both theoretical and practical skills.  Course learning outcomes meet the requirements of NFPA 1006 Ice Water Rescue and provide the necessary skills and JPR profile to safely and effectively conduct a rescue at the operations level.  The course is designed for emergency responders and those pursuing a career in emergency services\, as well as services requiring specific water rescue training. \n\nContent Includes: Ice Water Awareness\, conditions and hazards\, Rescue and Survival equipment instructional\, rescue skills and techniques\, operational scenario training\nAll Rescue PPE is provided\nPre-requisite: Info Sheet and Course Awareness Handout
URL:https://firewise.ca/event/nfpa-1006-ice-water-rescue-awareness-operations-2/2026-03-29/
END:VEVENT
BEGIN:VEVENT
DTSTART;TZID=America/Halifax:20260328T080000
DTEND;TZID=America/Halifax:20260328T170000
DTSTAMP:20260424T115232
CREATED:20260225T152214Z
LAST-MODIFIED:20260225T154412Z
UID:10000015-1774684800-1774717200@firewise.ca
SUMMARY:NFPA 1006: Ice Water Rescue Awareness/Operations
DESCRIPTION:This course has a 2 and 3 day option comprising both theoretical and practical skills.  Course learning outcomes meet the requirements of NFPA 1006 Ice Water Rescue and provide the necessary skills and JPR profile to safely and effectively conduct a rescue at the operations level.  The course is designed for emergency responders and those pursuing a career in emergency services\, as well as services requiring specific water rescue training. \n\nContent Includes: Ice Water Awareness\, conditions and hazards\, Rescue and Survival equipment instructional\, rescue skills and techniques\, operational scenario training\nAll Rescue PPE is provided\nPre-requisite: Info Sheet and Course Awareness Handout
URL:https://firewise.ca/event/nfpa-1006-ice-water-rescue-awareness-operations-2/2026-03-28/
END:VEVENT
BEGIN:VEVENT
DTSTART;VALUE=DATE:20260327
DTEND;VALUE=DATE:20260328
DTSTAMP:20260424T115232
CREATED:20260203T175627Z
LAST-MODIFIED:20260225T154252Z
UID:10000013-1774598400-1774630800@firewise.ca
SUMMARY:Red Cross Standard First Aid
DESCRIPTION:View Details
URL:https://firewise.ca/event/red-cross-standard/2026-03-27/
END:VEVENT
BEGIN:VEVENT
DTSTART;TZID=America/Halifax:20260322T080000
DTEND;TZID=America/Halifax:20260322T170000
DTSTAMP:20260424T115232
CREATED:20260225T152354Z
LAST-MODIFIED:20260225T152354Z
UID:10000012-1774166400-1774198800@firewise.ca
SUMMARY:NFPA 1006: Ice Water Rescue Awareness/Operations
DESCRIPTION:This course has a 2 and 3 day option comprising both theoretical and practical skills.  Course learning outcomes meet the requirements of NFPA 1006 Ice Water Rescue and provide the necessary skills and JPR profile to safely and effectively conduct a rescue at the operations level.  The course is designed for emergency responders and those pursuing a career in emergency services\, as well as services requiring specific water rescue training. \n\nContent Includes: Ice Water Awareness\, conditions and hazards\, Rescue and Survival equipment instructional\, rescue skills and techniques\, operational scenario training\nAll Rescue PPE is provided\nPre-requisite:  Info Sheet and Course Awareness Handout
URL:https://firewise.ca/event/nfpa-1006-ice-water-rescue-awareness-operations-3/2026-03-22/
END:VEVENT
BEGIN:VEVENT
DTSTART;TZID=America/Halifax:20260321T080000
DTEND;TZID=America/Halifax:20260321T170000
DTSTAMP:20260424T115232
CREATED:20260225T152354Z
LAST-MODIFIED:20260225T152354Z
UID:10000011-1774080000-1774112400@firewise.ca
SUMMARY:NFPA 1006: Ice Water Rescue Awareness/Operations
DESCRIPTION:This course has a 2 and 3 day option comprising both theoretical and practical skills.  Course learning outcomes meet the requirements of NFPA 1006 Ice Water Rescue and provide the necessary skills and JPR profile to safely and effectively conduct a rescue at the operations level.  The course is designed for emergency responders and those pursuing a career in emergency services\, as well as services requiring specific water rescue training. \n\nContent Includes: Ice Water Awareness\, conditions and hazards\, Rescue and Survival equipment instructional\, rescue skills and techniques\, operational scenario training\nAll Rescue PPE is provided\nPre-requisite:  Info Sheet and Course Awareness Handout
URL:https://firewise.ca/event/nfpa-1006-ice-water-rescue-awareness-operations-3/2026-03-21/
END:VEVENT
BEGIN:VEVENT
DTSTART;TZID=America/Halifax:20260315T080000
DTEND;TZID=America/Halifax:20260315T160000
DTSTAMP:20260424T115232
CREATED:20260226T165536Z
LAST-MODIFIED:20260226T165536Z
UID:10000017-1773561600-1773590400@firewise.ca
SUMMARY:OFAI Prep Course
DESCRIPTION:The OFAI Prep course is designed to support and create a solid foundation of the skills required to be a successful firefighter.  Each component of the job performance requirements are broken down into a theory and practical based instructional process to support a foundation of reasoning and understanding of skill points.  An instructor will walk you through each skill point and support practical evolutions to refine your skills and create a foundation of confidence. \n\nContent Includes: OFAI theory session\, practical breakdown and understanding of each required skill and evolution\, demonstration and practical training on critical points\nAll Rescue PPE is provided\nPre-requisite: NFPA 1001/1002\nCourse enrolment opens the ability to utilize facility for further dates to practice skills
URL:https://firewise.ca/event/ofai-prep-course/
END:VEVENT
BEGIN:VEVENT
DTSTART;TZID=America/Halifax:20260308T080000
DTEND;TZID=America/Halifax:20260308T170000
DTSTAMP:20260424T115232
CREATED:20260225T152214Z
LAST-MODIFIED:20260225T154412Z
UID:10000010-1772956800-1772989200@firewise.ca
SUMMARY:NFPA 1006: Ice Water Rescue Awareness/Operations
DESCRIPTION:This course has a 2 and 3 day option comprising both theoretical and practical skills.  Course learning outcomes meet the requirements of NFPA 1006 Ice Water Rescue and provide the necessary skills and JPR profile to safely and effectively conduct a rescue at the operations level.  The course is designed for emergency responders and those pursuing a career in emergency services\, as well as services requiring specific water rescue training. \n\nContent Includes: Ice Water Awareness\, conditions and hazards\, Rescue and Survival equipment instructional\, rescue skills and techniques\, operational scenario training\nAll Rescue PPE is provided\nPre-requisite: Info Sheet and Course Awareness Handout
URL:https://firewise.ca/event/nfpa-1006-ice-water-rescue-awareness-operations-2/2026-03-08/
END:VEVENT
BEGIN:VEVENT
DTSTART;TZID=America/Halifax:20260307T080000
DTEND;TZID=America/Halifax:20260307T170000
DTSTAMP:20260424T115232
CREATED:20260225T152214Z
LAST-MODIFIED:20260225T154412Z
UID:10000009-1772870400-1772902800@firewise.ca
SUMMARY:NFPA 1006: Ice Water Rescue Awareness/Operations
DESCRIPTION:This course has a 2 and 3 day option comprising both theoretical and practical skills.  Course learning outcomes meet the requirements of NFPA 1006 Ice Water Rescue and provide the necessary skills and JPR profile to safely and effectively conduct a rescue at the operations level.  The course is designed for emergency responders and those pursuing a career in emergency services\, as well as services requiring specific water rescue training. \n\nContent Includes: Ice Water Awareness\, conditions and hazards\, Rescue and Survival equipment instructional\, rescue skills and techniques\, operational scenario training\nAll Rescue PPE is provided\nPre-requisite: Info Sheet and Course Awareness Handout
URL:https://firewise.ca/event/nfpa-1006-ice-water-rescue-awareness-operations-2/2026-03-07/
END:VEVENT
BEGIN:VEVENT
DTSTART;VALUE=DATE:20260304
DTEND;VALUE=DATE:20260305
DTSTAMP:20260424T115232
CREATED:20260203T175627Z
LAST-MODIFIED:20260225T154252Z
UID:10000005-1772582400-1772668799@firewise.ca
SUMMARY:Red Cross Standard First Aid
DESCRIPTION:View Details
URL:https://firewise.ca/event/red-cross-standard/2026-03-04/
END:VEVENT
BEGIN:VEVENT
DTSTART;TZID=America/Halifax:20260301T080000
DTEND;TZID=America/Halifax:20260301T170000
DTSTAMP:20260424T115232
CREATED:20260225T141750Z
LAST-MODIFIED:20260225T142136Z
UID:10000008-1772352000-1772384400@firewise.ca
SUMMARY:NFPA 1006: Ice Water Rescue Awareness/Operations
DESCRIPTION:https://firewise.ca/product/nfpa-1006-ice-wa…eness-operations/This course has a 2 and 3 day option comprising both theoretical and practical skills.  Course learning outcomes meet the requirements of NFPA 1006 Ice Water Rescue and provide the necessary skills and JPR profile to safely and effectively conduct a rescue at the operations level.  The course is designed for emergency responders and those pursuing a career in emergency services\, as well as services requiring specific water rescue training. \n\nContent Includes: Ice Water Awareness\, conditions and hazards\, Rescue and Survival equipment instructional\, rescue skills and techniques\, operational scenario training\nAll Rescue PPE is provided\nPre-requisite: Info Sheet and Course Awareness Handout
URL:https://firewise.ca/event/nfpa-1006-ice-water-rescue-awareness-operations/2026-03-01/
END:VEVENT
BEGIN:VEVENT
DTSTART;TZID=America/Halifax:20260228T080000
DTEND;TZID=America/Halifax:20260228T170000
DTSTAMP:20260424T115232
CREATED:20260225T141750Z
LAST-MODIFIED:20260225T142136Z
UID:10000007-1772265600-1772298000@firewise.ca
SUMMARY:NFPA 1006: Ice Water Rescue Awareness/Operations
DESCRIPTION:https://firewise.ca/product/nfpa-1006-ice-wa…eness-operations/This course has a 2 and 3 day option comprising both theoretical and practical skills.  Course learning outcomes meet the requirements of NFPA 1006 Ice Water Rescue and provide the necessary skills and JPR profile to safely and effectively conduct a rescue at the operations level.  The course is designed for emergency responders and those pursuing a career in emergency services\, as well as services requiring specific water rescue training. \n\nContent Includes: Ice Water Awareness\, conditions and hazards\, Rescue and Survival equipment instructional\, rescue skills and techniques\, operational scenario training\nAll Rescue PPE is provided\nPre-requisite: Info Sheet and Course Awareness Handout
URL:https://firewise.ca/event/nfpa-1006-ice-water-rescue-awareness-operations/2026-02-28/
END:VEVENT
END:VCALENDAR